BEGIN:VCALENDAR
VERSION:2.0
PRODID:-//1000 Island Brewing Company - ECPv6.6.4.2//NONSGML v1.0//EN
CALSCALE:GREGORIAN
METHOD:PUBLISH
X-ORIGINAL-URL:https://1000islandsbrewery.ca
X-WR-CALDESC:Events for 1000 Island Brewing Company
REFRESH-INTERVAL;VALUE=DURATION:PT1H
X-Robots-Tag:noindex
X-PUBLISHED-TTL:PT1H
BEGIN:VTIMEZONE
TZID:UTC
BEGIN:STANDARD
TZOFFSETFROM:+0000
TZOFFSETTO:+0000
TZNAME:UTC
DTSTART:20190101T000000
END:STANDARD
END:VTIMEZONE
BEGIN:VEVENT
DTSTART;VALUE=DATE:20190830
DTEND;VALUE=DATE:20190902
DTSTAMP:20260424T113709
CREATED:20190731T173218Z
LAST-MODIFIED:20190731T173218Z
UID:2786-1567123200-1567382399@1000islandsbrewery.ca
SUMMARY:Tallships Festival
DESCRIPTION:Majestic tall ships\, including the Bluenose II\, will arrive in the afternoon on Friday and will be available for tours for Festival Passport holders on Saturday and Sunday. Watch them sail during the Parade of Sail on Friday afternoon. \n$5 general admission; $15 deck tour “passport”; specialty cruise experiences available $40-$85)\nfree admission for children 5 and under\nTickets can be purchased at www.tallshipsbrockville.com/tickets or the Brockville Art Centre’s Box Office. \nFor more information on this exciting event visit: www.tallshipsbrockville.com
URL:https://1000islandsbrewery.ca/event/tallships-festival/
ATTACH;FMTTYPE=image/jpeg:https://1000islandsbrewery.ca/wp-content/uploads/2019/07/Tall-Ships-2016-4.jpg
END:VEVENT
END:VCALENDAR